BEGIN:VCALENDAR
VERSION:2.0
PRODID:-//OmniMagnetCalendar//EN
BEGIN:VEVENT
DTSTAMP:20190625T195740Z
STATUS:CONFIRMED
UID:nashville.illiniclub.org134
DTSTART:20251206T230000Z
DTEND:20251207T043000Z
LOCATION:Barstool Nashville, 123 2nd Ave. South, Nashville, TN, 37201,
SUMMARY:Illini vs. Tennessee Vols Pregame & Watch Party - Dec. 6, 2025
DESCRIPTION:
BEGIN:VALARM
TRIGGER:-PT15M
ACTION:DISPLAY
END:VALARM
TRANSP:OPAQUE
END:VEVENT
END:VCALENDAR
