BEGIN:VCALENDAR
VERSION:2.0
PRODID:-//OmniMagnetCalendar//EN
BEGIN:VEVENT
DTSTAMP:20190625T195740Z
STATUS:CONFIRMED
UID:nashville.illiniclub.org133
DTSTART:20250718T231500Z
DTEND:20250719T023000Z
LOCATION:First Horizon Park, 19 Jr. Gilliam Way, Nashville, TN, 37216,
SUMMARY:Illini Night at the Ballpark - Sounds Game
DESCRIPTION:
BEGIN:VALARM
TRIGGER:-PT15M
ACTION:DISPLAY
END:VALARM
TRANSP:OPAQUE
END:VEVENT
END:VCALENDAR
