BEGIN:VCALENDAR
VERSION:2.0
PRODID:-//OmniMagnetCalendar//EN
BEGIN:VEVENT
DTSTAMP:20190625T195740Z
STATUS:CONFIRMED
UID:nashville.illiniclub.org129
DTSTART:20250302T204500Z
DTEND:20250302T230000Z
LOCATION:Corner Pub Bellevue, 8058 TN-100, Nashville, TN, 37221,
SUMMARY:Illinois vs Michigan Men's Basketball Gamewatch
DESCRIPTION:Join us on March 2!
BEGIN:VALARM
TRIGGER:-PT15M
ACTION:DISPLAY
END:VALARM
TRANSP:OPAQUE
END:VEVENT
END:VCALENDAR
