BEGIN:VCALENDAR
VERSION:2.0
PRODID:-//OmniMagnetCalendar//EN
BEGIN:VEVENT
DTSTAMP:20190625T195740Z
STATUS:CONFIRMED
UID:nashville.illiniclub.org127
DTSTART:20250208T230000Z
DTEND:20250209T010000Z
LOCATION:Sports & Social, 2126 Abbott Martin Rd , Ste 282, Nashville, TN, 37215,
SUMMARY:Illinois vs Minnesota Men's Basketball Gamewatch
DESCRIPTION:Join us on February 8!
BEGIN:VALARM
TRIGGER:-PT15M
ACTION:DISPLAY
END:VALARM
TRANSP:OPAQUE
END:VEVENT
END:VCALENDAR
