BEGIN:VCALENDAR
VERSION:2.0
PRODID:-//OmniMagnetCalendar//EN
BEGIN:VEVENT
DTSTAMP:20190625T195740Z
STATUS:CONFIRMED
UID:nashville.illiniclub.org125
DTSTART:20241222T180000Z
DTEND:20241222T203000Z
LOCATION:Tennesee Brew Works, 809 Ewing Ave, Nashville, TN, 37203,
SUMMARY:Braggin' Rights 2024 Gamewatch & Holiday Party
DESCRIPTION:Join us on Sunday, December 22!
BEGIN:VALARM
TRIGGER:-PT15M
ACTION:DISPLAY
END:VALARM
TRANSP:OPAQUE
END:VEVENT
END:VCALENDAR
