BEGIN:VCALENDAR
VERSION:2.0
PRODID:-//OmniMagnetCalendar//EN
BEGIN:VEVENT
DTSTAMP:20190625T195740Z
STATUS:CONFIRMED
UID:nashville.illiniclub.org124
DTSTART:20241116T193000Z
DTEND:20241116T230000Z
LOCATION:Tony's Eat & Drink, 1000 Meridian Blvd , #100, Franklin, TN, 37067,
SUMMARY:Illinois vs Michigan State Football Gamewatch
DESCRIPTION:
BEGIN:VALARM
TRIGGER:-PT15M
ACTION:DISPLAY
END:VALARM
TRANSP:OPAQUE
END:VEVENT
END:VCALENDAR
