BEGIN:VCALENDAR
VERSION:2.0
PRODID:-//OmniMagnetCalendar//EN
BEGIN:VEVENT
DTSTAMP:20190625T195740Z
STATUS:CONFIRMED
UID:nashville.illiniclub.org121
DTSTART:20240127T200000Z
DTEND:20240127T220000Z
LOCATION:BoomBozz Craft Pizza & Taphouse - East Nashville, 1003 Russell St, Nashville, TN, 37206,
SUMMARY:Illinois vs Indiana Gamewatch Party!
DESCRIPTION:Join us on January 27!!!
BEGIN:VALARM
TRIGGER:-PT15M
ACTION:DISPLAY
END:VALARM
TRANSP:OPAQUE
END:VEVENT
END:VCALENDAR
