BEGIN:VCALENDAR
VERSION:2.0
PRODID:-//OmniMagnetCalendar//EN
BEGIN:VEVENT
DTSTAMP:20190625T195740Z
STATUS:CONFIRMED
UID:nashville.illiniclub.org119
DTSTART:20231209T170000Z
DTEND:
LOCATION:Thompson-Boling Arena at Food City Center,  1600 Phillip Fulmer Way, Knoxville, TN, 37996,
SUMMARY:Illinois at Tennessee - Road Trip to Knoxville!!!
DESCRIPTION:Head to Knoxville to represent our Illini on the road!
BEGIN:VALARM
TRIGGER:-PT15M
ACTION:DISPLAY
END:VALARM
TRANSP:OPAQUE
END:VEVENT
END:VCALENDAR
