BEGIN:VCALENDAR
VERSION:2.0
PRODID:-//OmniMagnetCalendar//EN
BEGIN:VEVENT
DTSTAMP:20190625T195740Z
STATUS:CONFIRMED
UID:nashville.illiniclub.org118
DTSTART:20231202T210000Z
DTEND:
LOCATION:BoomBozz Craft Pizza & Taphouse - East Nashville, 1003 Russell St, 37206,
SUMMARY:Illinois vs Rutgers - Men's Basketball Gamewatch & Club Information Session
DESCRIPTION:Cheer on our Fighting Illini in the Big Ten opener against Rutgers!
BEGIN:VALARM
TRIGGER:-PT15M
ACTION:DISPLAY
END:VALARM
TRANSP:OPAQUE
END:VEVENT
END:VCALENDAR
