BEGIN:VCALENDAR
VERSION:2.0
PRODID:-//OmniMagnetCalendar//EN
BEGIN:VEVENT
DTSTAMP:20190625T195740Z
STATUS:CONFIRMED
UID:nashville.illiniclub.org116
DTSTART:20230305T173000Z
DTEND:20230305T193000Z
LOCATION:Boombozz Craft Pizza & Taphouse - East Nashville, 1003 Russell St, Nashville, TN, 37206,
SUMMARY:Illinois vs Purdue Men's Basketball Gamewatch - This Sunday!
DESCRIPTION:
BEGIN:VALARM
TRIGGER:-PT15M
ACTION:DISPLAY
END:VALARM
TRANSP:OPAQUE
END:VEVENT
END:VCALENDAR
