BEGIN:VCALENDAR
VERSION:2.0
PRODID:-//OmniMagnetCalendar//EN
BEGIN:VEVENT
DTSTAMP:20190625T195740Z
STATUS:CONFIRMED
UID:nashville.illiniclub.org115
DTSTART:20230226T170000Z
DTEND:20230226T193000Z
LOCATION:Boombozz Craft Pizza & Taphouse - East Nashville, 1003 Russell St, Nashville, TN, 37206,
SUMMARY:Illinois vs Ohio State Men's Basketball Gamewatch
DESCRIPTION:Join us at BoomBozz in East Nashville!
BEGIN:VALARM
TRIGGER:-PT15M
ACTION:DISPLAY
END:VALARM
TRANSP:OPAQUE
END:VEVENT
END:VCALENDAR
