BEGIN:VCALENDAR
VERSION:2.0
PRODID:-//OmniMagnetCalendar//EN
BEGIN:VEVENT
DTSTAMP:20190625T195740Z
STATUS:CONFIRMED
UID:nashville.illiniclub.org113
DTSTART:20221223T020000Z
DTEND:20221223T040000Z
LOCATION:Tennessee Brew Works, 809 Ewing Ave, Nashville, TN, 37203,
SUMMARY:Braggin' Rights Holiday Party
DESCRIPTION:We hope to see you on Thursday!
BEGIN:VALARM
TRIGGER:-PT15M
ACTION:DISPLAY
END:VALARM
TRANSP:OPAQUE
END:VEVENT
END:VCALENDAR
