BEGIN:VCALENDAR
VERSION:2.0
PRODID:-//OmniMagnetCalendar//EN
BEGIN:VEVENT
DTSTAMP:20190625T195740Z
STATUS:CONFIRMED
UID:nashville.illiniclub.org110
DTSTART:20221112T170000Z
DTEND:20221112T203000Z
LOCATION:Germantown Pub, 708 Monroe St, Nashville, TN, 37208, USA,
SUMMARY:ILLINOIS FOOTBALL GAME WATCH PARTY
DESCRIPTION:Come out and cheer on the Illini against Purdue
BEGIN:VALARM
TRIGGER:-PT15M
ACTION:DISPLAY
END:VALARM
TRANSP:OPAQUE
END:VEVENT
END:VCALENDAR
