BEGIN:VCALENDAR
VERSION:2.0
PRODID:-//OmniMagnetCalendar//EN
BEGIN:VEVENT
DTSTAMP:20190625T195740Z
STATUS:CONFIRMED
UID:nashville.illiniclub.org108
DTSTART:20220827T193000Z
DTEND:20220827T230000Z
LOCATION:6th and Peabody, 423 6th Ave S, Nashville, TN, 37203, USA,
SUMMARY:Nashville Illini Kickoff Event!
DESCRIPTION:Come out and cheer on the Illini against Wyoming
BEGIN:VALARM
TRIGGER:-PT15M
ACTION:DISPLAY
END:VALARM
TRANSP:OPAQUE
END:VEVENT
END:VCALENDAR
